BEGIN:VCALENDAR
VERSION:2.0
PRODID:SchoolNow
CALSCALE:GREGORIAN
BEGIN:VEVENT
UID:ddfcd42c-cf08-11f0-8b0b-0a58a9feac02
DTSTAMP:20260423T154543Z
SUMMARY:Cheer Tryouts
URL;VALUE=URI:https://www.lpssonline.com/schools/southside/calendar/8815012
 /cheer-tryouts
DTSTART:20260310T220000Z
DTEND:20260311T003000Z
END:VEVENT
END:VCALENDAR
