BEGIN:VCALENDAR
VERSION:2.0
PRODID:SchoolNow
CALSCALE:GREGORIAN
BEGIN:VEVENT
UID:8bea51dc-d502-11f0-9d0c-0a58a9feac02
DTSTAMP:20260423T154543Z
SUMMARY:Election Day
URL;VALUE=URI:https://www.lpssonline.com/schools/southside/calendar/8820444
 /election-day
DTSTART;VALUE=DATE:20260516
DTEND;VALUE=DATE:20260517
END:VEVENT
END:VCALENDAR
