BEGIN:VCALENDAR
VERSION:2.0
PRODID:SchoolNow
CALSCALE:GREGORIAN
BEGIN:VEVENT
UID:5c009ba6-eb51-11f0-8854-0affc25a2207
DTSTAMP:20260423T154543Z
SUMMARY:Drive Right\, LLC
URL;VALUE=URI:https://www.lpssonline.com/schools/southside/calendar/8832082
 /drive-right-llc
DTSTART;VALUE=DATE:20260523
DTEND;VALUE=DATE:20260527
END:VEVENT
END:VCALENDAR
