BEGIN:VCALENDAR
VERSION:2.0
PRODID:SchoolNow
CALSCALE:GREGORIAN
BEGIN:VEVENT
UID:5c009cb4-eb51-11f0-96fd-0affc25a2207
DTSTAMP:20260423T154543Z
SUMMARY:Choir-Spring Concert
URL;VALUE=URI:https://www.lpssonline.com/schools/southside/calendar/8832083
 /choir-spring-concert
DTSTART:20260429T230000Z
DTEND:20260430T000000Z
END:VEVENT
END:VCALENDAR
