BEGIN:VCALENDAR
VERSION:2.0
PRODID:SchoolNow
CALSCALE:GREGORIAN
BEGIN:VEVENT
UID:5c00a038-eb51-11f0-bf3e-0affc25a2207
DTSTAMP:20260423T154543Z
SUMMARY:Drive Right\, LLC
URL;VALUE=URI:https://www.lpssonline.com/schools/southside/calendar/8832084
 /drive-right-llc
DTSTART;VALUE=DATE:20260218
DTEND;VALUE=DATE:20260219
END:VEVENT
END:VCALENDAR
