BEGIN:VCALENDAR
VERSION:2.0
PRODID:SchoolNow
CALSCALE:GREGORIAN
BEGIN:VEVENT
UID:15e67c42-f0b2-11f0-8990-0afffce80145
DTSTAMP:20260423T154543Z
SUMMARY:Senior Awards Ceremony
URL;VALUE=URI:https://www.lpssonline.com/schools/southside/calendar/8835560
 /senior-awards-ceremony
DTSTART:20260506T230000Z
DTEND:20260507T010000Z
END:VEVENT
END:VCALENDAR
