BEGIN:VCALENDAR
VERSION:2.0
PRODID:SchoolNow
CALSCALE:GREGORIAN
BEGIN:VEVENT
UID:160c057a-f0b2-11f0-b807-0afffce80145
DTSTAMP:20260423T154543Z
SUMMARY:Ring Ceremony
URL;VALUE=URI:https://www.lpssonline.com/schools/southside/calendar/8835561
 /ring-ceremony
DTSTART:20260505T230000Z
DTEND:20260506T000000Z
END:VEVENT
END:VCALENDAR
