BEGIN:VCALENDAR
VERSION:2.0
PRODID:SchoolNow
CALSCALE:GREGORIAN
BEGIN:VEVENT
UID:01adf0cc-f24a-11f0-b610-0a58a9feac02
DTSTAMP:20260423T154543Z
SUMMARY:Principals' Day
URL;VALUE=URI:https://www.lpssonline.com/schools/southside/calendar/8836747
 /principals-day
DTSTART;VALUE=DATE:20260501
DTEND;VALUE=DATE:20260502
END:VEVENT
END:VCALENDAR
