BEGIN:VCALENDAR
VERSION:2.0
PRODID:SchoolNow
CALSCALE:GREGORIAN
BEGIN:VEVENT
UID:01ae13d6-f24a-11f0-b747-0a58a9feac02
DTSTAMP:20260423T154543Z
SUMMARY:Paraprofessional Appreciation Day
URL;VALUE=URI:https://www.lpssonline.com/schools/southside/calendar/8836748
 /paraprofessional-appreciation-day
DTSTART;VALUE=DATE:20260401
DTEND;VALUE=DATE:20260402
END:VEVENT
END:VCALENDAR
