BEGIN:VCALENDAR
VERSION:2.0
PRODID:SchoolNow
CALSCALE:GREGORIAN
BEGIN:VEVENT
UID:01ae15e8-f24a-11f0-8048-0a58a9feac02
DTSTAMP:20260423T154543Z
SUMMARY:National School Counseling Week
URL;VALUE=URI:https://www.lpssonline.com/schools/southside/calendar/8836749
 /national-school-counseling-week
DTSTART;VALUE=DATE:20260202
DTEND;VALUE=DATE:20260207
END:VEVENT
END:VCALENDAR
