BEGIN:VCALENDAR
VERSION:2.0
PRODID:SchoolNow
CALSCALE:GREGORIAN
BEGIN:VEVENT
UID:01ae196c-f24a-11f0-acf0-0a58a9feac02
DTSTAMP:20260423T154543Z
SUMMARY:Teacher Appreciation Week
URL;VALUE=URI:https://www.lpssonline.com/schools/southside/calendar/8836750
 /teacher-appreciation-week
DTSTART;VALUE=DATE:20260504
DTEND;VALUE=DATE:20260509
END:VEVENT
END:VCALENDAR
