BEGIN:VCALENDAR
VERSION:2.0
PRODID:SchoolNow
CALSCALE:GREGORIAN
BEGIN:VEVENT
UID:01ae1b38-f24a-11f0-947e-0a58a9feac02
DTSTAMP:20260423T154543Z
SUMMARY:Administrative Professionals' Day
URL;VALUE=URI:https://www.lpssonline.com/schools/southside/calendar/8836751
 /administrative-professionals-day
DTSTART;VALUE=DATE:20260422
DTEND;VALUE=DATE:20260423
END:VEVENT
END:VCALENDAR
