BEGIN:VCALENDAR
VERSION:2.0
PRODID:SchoolNow
CALSCALE:GREGORIAN
BEGIN:VEVENT
UID:ba85d096-f7aa-11f0-bbc7-0affdaf42bfd
DTSTAMP:20260423T154543Z
SUMMARY:CLEP AP US History II
URL;VALUE=URI:https://www.lpssonline.com/schools/southside/calendar/8839279
 /clep-ap-us-history-ii
DTSTART;VALUE=DATE:20260512
DTEND;VALUE=DATE:20260513
END:VEVENT
END:VCALENDAR
