BEGIN:VCALENDAR
VERSION:2.0
PRODID:SchoolNow
CALSCALE:GREGORIAN
BEGIN:VEVENT
UID:ba85d8a2-f7aa-11f0-b123-0affdaf42bfd
DTSTAMP:20260423T154543Z
SUMMARY:CLEP Psychology in room C301
URL;VALUE=URI:https://www.lpssonline.com/schools/southside/calendar/8839280
 /clep-psychology-in-room-c301
DTSTART;VALUE=DATE:20260331
DTEND;VALUE=DATE:20260401
END:VEVENT
END:VCALENDAR
