BEGIN:VCALENDAR
VERSION:2.0
PRODID:SchoolNow
CALSCALE:GREGORIAN
BEGIN:VEVENT
UID:b75a4572-f7dd-11f0-a30f-0a58a9feac02
DTSTAMP:20260423T154543Z
SUMMARY:Sharki Gras Parade-During IF
URL;VALUE=URI:https://www.lpssonline.com/schools/southside/calendar/8839481
 /sharki-gras-parade-during-if
DTSTART:20260212T140000Z
DTEND:20260212T143000Z
END:VEVENT
END:VCALENDAR
