BEGIN:VCALENDAR
VERSION:2.0
PRODID:SchoolNow
CALSCALE:GREGORIAN
BEGIN:VEVENT
UID:b7894e62-f7dd-11f0-bd6f-0a58a9feac02
DTSTAMP:20260423T154543Z
SUMMARY:CLEP Testing Biology II H in C301
URL;VALUE=URI:https://www.lpssonline.com/schools/southside/calendar/8839482
 /clep-testing-biology-ii-h-in-c301
DTSTART;VALUE=DATE:20260430
DTEND;VALUE=DATE:20260501
END:VEVENT
END:VCALENDAR
