BEGIN:VCALENDAR
VERSION:2.0
PRODID:SchoolNow
CALSCALE:GREGORIAN
BEGIN:VEVENT
UID:88e47f2e-fba6-11f0-8b93-027a5f5cb617
DTSTAMP:20260423T154543Z
SUMMARY:CLEP US HISTORY HONORS RM C301
URL;VALUE=URI:https://www.lpssonline.com/schools/southside/calendar/8845109
 /clep-us-history-honors-rm-c301
DTSTART;VALUE=DATE:20260330
DTEND;VALUE=DATE:20260331
END:VEVENT
END:VCALENDAR
