BEGIN:VCALENDAR
VERSION:2.0
PRODID:SchoolNow
CALSCALE:GREGORIAN
BEGIN:VEVENT
UID:88e4a490-fba6-11f0-8ce4-027a5f5cb617
DTSTAMP:20260423T154543Z
SUMMARY:Band Spring Concert
URL;VALUE=URI:https://www.lpssonline.com/schools/southside/calendar/8845110
 /band-spring-concert
DTSTART:20260504T230000Z
DTEND:20260505T010000Z
END:VEVENT
END:VCALENDAR
