BEGIN:VCALENDAR
VERSION:2.0
PRODID:SchoolNow
CALSCALE:GREGORIAN
BEGIN:VEVENT
UID:79afa2ea-fca5-11f0-91d5-0a58a9feac02
DTSTAMP:20260423T154543Z
SUMMARY:Work Keys Testing C304
URL;VALUE=URI:https://www.lpssonline.com/schools/southside/calendar/8846283
 /work-keys-testing-c304
DTSTART:20260202T140000Z
DTEND:20260202T163000Z
END:VEVENT
END:VCALENDAR
