BEGIN:VCALENDAR
VERSION:2.0
PRODID:SchoolNow
CALSCALE:GREGORIAN
BEGIN:VEVENT
UID:7441646c-fd3e-11f0-8b22-0a58a9feac02
DTSTAMP:20260423T154543Z
SUMMARY:Work Keys Testing C304
URL;VALUE=URI:https://www.lpssonline.com/schools/southside/calendar/8846564
 /work-keys-testing-c304
DTSTART:20260205T140000Z
DTEND:20260205T170000Z
END:VEVENT
END:VCALENDAR
