BEGIN:VCALENDAR
VERSION:2.0
PRODID:SchoolNow
CALSCALE:GREGORIAN
BEGIN:VEVENT
UID:744169a8-fd3e-11f0-8c27-0a58a9feac02
DTSTAMP:20260423T154543Z
SUMMARY:Work Keys Testing C304
URL;VALUE=URI:https://www.lpssonline.com/schools/southside/calendar/8846565
 /work-keys-testing-c304
DTSTART:20260206T140000Z
DTEND:20260206T163000Z
END:VEVENT
END:VCALENDAR
