BEGIN:VCALENDAR
VERSION:2.0
PRODID:SchoolNow
CALSCALE:GREGORIAN
BEGIN:VEVENT
UID:33a843f4-0206-11f1-83e5-0a58a9feac02
DTSTAMP:20260423T154543Z
SUMMARY:US Army Visit
URL;VALUE=URI:https://www.lpssonline.com/schools/southside/calendar/8849603
 /us-army-visit
DTSTART:20260209T161500Z
DTEND:20260209T184500Z
END:VEVENT
END:VCALENDAR
