BEGIN:VCALENDAR
VERSION:2.0
PRODID:SchoolNow
CALSCALE:GREGORIAN
BEGIN:VEVENT
UID:33a84f02-0206-11f1-a517-0a58a9feac02
DTSTAMP:20260423T154543Z
SUMMARY:UL Monroe College Visit
URL;VALUE=URI:https://www.lpssonline.com/schools/southside/calendar/8849604
 /ul-monroe-college-visit
DTSTART:20260223T161500Z
DTEND:20260223T184500Z
END:VEVENT
END:VCALENDAR
