BEGIN:VCALENDAR
VERSION:2.0
PRODID:SchoolNow
CALSCALE:GREGORIAN
BEGIN:VEVENT
UID:33a8572c-0206-11f1-8359-0a58a9feac02
DTSTAMP:20260423T154543Z
SUMMARY:Southeastern Louisiana University Visit
URL;VALUE=URI:https://www.lpssonline.com/schools/southside/calendar/8849605
 /southeastern-louisiana-university-visit
DTSTART:20260211T161500Z
DTEND:20260211T184500Z
END:VEVENT
END:VCALENDAR
