BEGIN:VCALENDAR
VERSION:2.0
PRODID:SchoolNow
CALSCALE:GREGORIAN
BEGIN:VEVENT
UID:24f9b8ea-036b-11f1-ac32-0a58a9feac02
DTSTAMP:20260423T154543Z
SUMMARY:Online Registration for 26-27 Opens
URL;VALUE=URI:https://www.lpssonline.com/schools/southside/calendar/8850401
 /online-registration-for-26-27-opens
DTSTART;VALUE=DATE:20260224
DTEND;VALUE=DATE:20260225
END:VEVENT
END:VCALENDAR
