BEGIN:VCALENDAR
VERSION:2.0
PRODID:SchoolNow
CALSCALE:GREGORIAN
BEGIN:VEVENT
UID:ffa3a094-0601-11f1-be42-0a58a9feac02
DTSTAMP:20260423T154543Z
SUMMARY:AP PSYC EXAM - PM
URL;VALUE=URI:https://www.lpssonline.com/schools/southside/calendar/8851873
 /ap-psyc-exam-pm
DTSTART;VALUE=DATE:20260512
DTEND;VALUE=DATE:20260513
END:VEVENT
END:VCALENDAR
