BEGIN:VCALENDAR
VERSION:2.0
PRODID:SchoolNow
CALSCALE:GREGORIAN
BEGIN:VEVENT
UID:e0dde19a-0865-11f1-a8d3-0a58a9feac02
DTSTAMP:20260423T154543Z
SUMMARY:Grad Supplies/Senior Shirt Delivery
URL;VALUE=URI:https://www.lpssonline.com/schools/southside/calendar/8854478
 /grad-supplies-senior-shirt-delivery
DTSTART:20260313T143000Z
DTEND:20260313T180000Z
END:VEVENT
END:VCALENDAR
