BEGIN:VCALENDAR
VERSION:2.0
PRODID:SchoolNow
CALSCALE:GREGORIAN
BEGIN:VEVENT
UID:e104556e-0865-11f1-837e-0a58a9feac02
DTSTAMP:20260423T154543Z
SUMMARY:ULL Academic Signing
URL;VALUE=URI:https://www.lpssonline.com/schools/southside/calendar/8854479
 /ull-academic-signing
DTSTART:20260323T230000Z
DTEND:20260324T003000Z
END:VEVENT
END:VCALENDAR
