BEGIN:VCALENDAR
VERSION:2.0
PRODID:SchoolNow
CALSCALE:GREGORIAN
BEGIN:VEVENT
UID:7c566a68-102a-11f1-80ac-0a58a9feac02
DTSTAMP:20260423T154543Z
SUMMARY:Faculty Meeting
URL;VALUE=URI:https://www.lpssonline.com/schools/southside/calendar/8865615
 /faculty-meeting
DTSTART:20260225T204000Z
DTEND:20260225T210000Z
END:VEVENT
END:VCALENDAR
