BEGIN:VCALENDAR
VERSION:2.0
PRODID:SchoolNow
CALSCALE:GREGORIAN
BEGIN:VEVENT
UID:67dc7660-11c2-11f1-9db9-0a58a9feac02
DTSTAMP:20260423T154543Z
SUMMARY:FFA CDE Area Contest
URL;VALUE=URI:https://www.lpssonline.com/schools/southside/calendar/8869299
 /ffa-cde-area-contest
DTSTART;VALUE=DATE:20260312
DTEND;VALUE=DATE:20260313
END:VEVENT
END:VCALENDAR
