BEGIN:VCALENDAR
VERSION:2.0
PRODID:SchoolNow
CALSCALE:GREGORIAN
BEGIN:VEVENT
UID:5d34ae22-128e-11f1-b3d0-0affc725f059
DTSTAMP:20260423T154543Z
SUMMARY:Josten's Grad Supply Pick-up
URL;VALUE=URI:https://www.lpssonline.com/schools/southside/calendar/8871312
 /jostens-grad-supply-pick-up
DTSTART:20260313T123000Z
DTEND:20260313T183000Z
END:VEVENT
END:VCALENDAR
