BEGIN:VCALENDAR
VERSION:2.0
PRODID:SchoolNow
CALSCALE:GREGORIAN
BEGIN:VEVENT
UID:55e8a0a8-1327-11f1-906b-0a58a9feac02
DTSTAMP:20260423T154543Z
SUMMARY:Custodian Training Video
URL;VALUE=URI:https://www.lpssonline.com/schools/southside/calendar/8872904
 /custodian-training-video
DTSTART:20260226T143000Z
DTEND:20260226T150000Z
END:VEVENT
END:VCALENDAR
