BEGIN:VCALENDAR
VERSION:2.0
PRODID:SchoolNow
CALSCALE:GREGORIAN
BEGIN:VEVENT
UID:55e8cc86-1327-11f1-b1a4-0a58a9feac02
DTSTAMP:20260423T154543Z
SUMMARY:Cafeteria Staff Training Video
URL;VALUE=URI:https://www.lpssonline.com/schools/southside/calendar/8872905
 /cafeteria-staff-training-video
DTSTART:20260227T140000Z
DTEND:20260227T143000Z
END:VEVENT
END:VCALENDAR
