BEGIN:VCALENDAR
VERSION:2.0
PRODID:SchoolNow
CALSCALE:GREGORIAN
BEGIN:VEVENT
UID:5332033a-135a-11f1-929b-0afff7b592c3
DTSTAMP:20260423T154543Z
SUMMARY:Powerlifting Parent Meeting For State
URL;VALUE=URI:https://www.lpssonline.com/schools/southside/calendar/8873813
 /powerlifting-parent-meeting-for-state
DTSTART:20260305T233000Z
DTEND:20260306T003000Z
END:VEVENT
END:VCALENDAR
