BEGIN:VCALENDAR
VERSION:2.0
PRODID:SchoolNow
CALSCALE:GREGORIAN
BEGIN:VEVENT
UID:4bcd6bae-13f3-11f1-8b83-0a58a9feac02
DTSTAMP:20260423T154543Z
SUMMARY:Art Showcase
URL;VALUE=URI:https://www.lpssonline.com/schools/southside/calendar/8875780
 /art-showcase
DTSTART:20260427T230000Z
DTEND:20260428T010000Z
END:VEVENT
END:VCALENDAR
