BEGIN:VCALENDAR
VERSION:2.0
PRODID:SchoolNow
CALSCALE:GREGORIAN
BEGIN:VEVENT
UID:02f30ff8-1987-11f1-afbc-02a205af4735
DTSTAMP:20260423T154543Z
SUMMARY:Emergency Drill
URL;VALUE=URI:https://www.lpssonline.com/schools/southside/calendar/8896307
 /emergency-drill
DTSTART:20260428T175500Z
DTEND:20260428T182500Z
END:VEVENT
END:VCALENDAR
