BEGIN:VCALENDAR
VERSION:2.0
PRODID:SchoolNow
CALSCALE:GREGORIAN
BEGIN:VEVENT
UID:e6e78ca2-1bb7-11f1-b6c3-0affe05eebf1
DTSTAMP:20260423T154543Z
SUMMARY:Capital Assets Audit
URL;VALUE=URI:https://www.lpssonline.com/schools/southside/calendar/8903576
 /capital-assets-audit
DTSTART:20260316T123000Z
DTEND:20260316T140000Z
END:VEVENT
END:VCALENDAR
