BEGIN:VCALENDAR
VERSION:2.0
PRODID:SchoolNow
CALSCALE:GREGORIAN
BEGIN:VEVENT
UID:e48cce08-1bea-11f1-bbd7-0ea4236332d5
DTSTAMP:20260423T154543Z
SUMMARY:Senior Chromebook Pickup
URL;VALUE=URI:https://www.lpssonline.com/schools/southside/calendar/8904367
 /senior-chromebook-pickup
DTSTART;VALUE=DATE:20260504
DTEND;VALUE=DATE:20260506
END:VEVENT
END:VCALENDAR
