BEGIN:VCALENDAR
VERSION:2.0
PRODID:SchoolNow
CALSCALE:GREGORIAN
BEGIN:VEVENT
UID:e48cd2d6-1bea-11f1-9889-0ea4236332d5
DTSTAMP:20260423T154543Z
SUMMARY:Undergrad Chromebook Pickup
URL;VALUE=URI:https://www.lpssonline.com/schools/southside/calendar/8904368
 /undergrad-chromebook-pickup
DTSTART;VALUE=DATE:20260511
DTEND;VALUE=DATE:20260515
END:VEVENT
END:VCALENDAR
