BEGIN:VCALENDAR
VERSION:2.0
PRODID:SchoolNow
CALSCALE:GREGORIAN
BEGIN:VEVENT
UID:da1a69a4-1cb6-11f1-b643-0ec3da476b47
DTSTAMP:20260423T154543Z
SUMMARY:Interest Meeting EF Trip Greece & Italy
URL;VALUE=URI:https://www.lpssonline.com/schools/southside/calendar/8907472
 /interest-meeting-ef-trip-greece-italy
DTSTART:20260325T223000Z
DTEND:20260325T233000Z
END:VEVENT
END:VCALENDAR
