BEGIN:VCALENDAR
VERSION:2.0
PRODID:SchoolNow
CALSCALE:GREGORIAN
BEGIN:VEVENT
UID:bb4c2a92-1f1a-11f1-bee4-026d656ad281
DTSTAMP:20260423T154543Z
SUMMARY:State Literary Rally @ LSU
URL;VALUE=URI:https://www.lpssonline.com/schools/southside/calendar/8915538
 /state-literary-rally-lsu
DTSTART;VALUE=DATE:20260418
DTEND;VALUE=DATE:20260419
END:VEVENT
END:VCALENDAR
