BEGIN:VCALENDAR
VERSION:2.0
PRODID:SchoolNow
CALSCALE:GREGORIAN
BEGIN:VEVENT
UID:3746afa0-2943-11f1-994d-02f2b6ecedaf
DTSTAMP:20260423T154543Z
SUMMARY:School Principal's Day
URL;VALUE=URI:https://www.lpssonline.com/schools/southside/calendar/8947348
 /school-principals-day
DTSTART;VALUE=DATE:20260501
DTEND;VALUE=DATE:20260502
END:VEVENT
END:VCALENDAR
