BEGIN:VCALENDAR
VERSION:2.0
PRODID:SchoolNow
CALSCALE:GREGORIAN
BEGIN:VEVENT
UID:3746b388-2943-11f1-8b56-02f2b6ecedaf
DTSTAMP:20260423T154543Z
SUMMARY:National Library Week
URL;VALUE=URI:https://www.lpssonline.com/schools/southside/calendar/8947349
 /national-library-week
DTSTART;VALUE=DATE:20260419
DTEND;VALUE=DATE:20260426
END:VEVENT
END:VCALENDAR
