BEGIN:VCALENDAR
VERSION:2.0
PRODID:SchoolNow
CALSCALE:GREGORIAN
BEGIN:VEVENT
UID:3746b6b2-2943-11f1-bdaf-02f2b6ecedaf
DTSTAMP:20260423T154543Z
SUMMARY:School Nurse Day
URL;VALUE=URI:https://www.lpssonline.com/schools/southside/calendar/8947351
 /school-nurse-day
DTSTART;VALUE=DATE:20260506
DTEND;VALUE=DATE:20260507
END:VEVENT
END:VCALENDAR
