BEGIN:VCALENDAR
VERSION:2.0
PRODID:SchoolNow
CALSCALE:GREGORIAN
BEGIN:VEVENT
UID:3746b888-2943-11f1-a00f-02f2b6ecedaf
DTSTAMP:20260423T154543Z
SUMMARY:School Bus Driver Appreciation Day
URL;VALUE=URI:https://www.lpssonline.com/schools/southside/calendar/8947352
 /school-bus-driver-appreciation-day
DTSTART;VALUE=DATE:20260422
DTEND;VALUE=DATE:20260423
END:VEVENT
END:VCALENDAR
