BEGIN:VCALENDAR
VERSION:2.0
PRODID:SchoolNow
CALSCALE:GREGORIAN
BEGIN:VEVENT
UID:3746bc34-2943-11f1-93ba-02f2b6ecedaf
DTSTAMP:20260423T154543Z
SUMMARY:National Assistant Principal Week
URL;VALUE=URI:https://www.lpssonline.com/schools/southside/calendar/8947353
 /national-assistant-principal-week
DTSTART;VALUE=DATE:20260406
DTEND;VALUE=DATE:20260411
END:VEVENT
END:VCALENDAR
