BEGIN:VCALENDAR
VERSION:2.0
PRODID:SchoolNow
CALSCALE:GREGORIAN
BEGIN:VEVENT
UID:376f3614-2943-11f1-86b8-02f2b6ecedaf
DTSTAMP:20260423T154543Z
SUMMARY:School Librarian Day
URL;VALUE=URI:https://www.lpssonline.com/schools/southside/calendar/8947355
 /school-librarian-day
DTSTART;VALUE=DATE:20260404
DTEND;VALUE=DATE:20260405
END:VEVENT
END:VCALENDAR
