BEGIN:VCALENDAR
VERSION:2.0
PRODID:SchoolNow
CALSCALE:GREGORIAN
BEGIN:VEVENT
UID:376f3a42-2943-11f1-b798-02f2b6ecedaf
DTSTAMP:20260423T154543Z
SUMMARY:School Lunch Hero Day
URL;VALUE=URI:https://www.lpssonline.com/schools/southside/calendar/8947356
 /school-lunch-hero-day
DTSTART;VALUE=DATE:20260501
DTEND;VALUE=DATE:20260502
END:VEVENT
END:VCALENDAR
