BEGIN:VCALENDAR
VERSION:2.0
PRODID:SchoolNow
CALSCALE:GREGORIAN
BEGIN:VEVENT
UID:0ea5aa3c-2c73-11f1-8f26-0eee34f8ce67
DTSTAMP:20260423T154543Z
SUMMARY:DE Composition Writing Sample
URL;VALUE=URI:https://www.lpssonline.com/schools/southside/calendar/8958085
 /de-composition-writing-sample
DTSTART:20260427T120500Z
DTEND:20260427T193500Z
END:VEVENT
END:VCALENDAR
