BEGIN:VCALENDAR
VERSION:2.0
PRODID:SchoolNow
CALSCALE:GREGORIAN
BEGIN:VEVENT
UID:eeeef93a-2ed6-11f1-b611-022ea395a049
DTSTAMP:20260423T154543Z
SUMMARY:Military Signing
URL;VALUE=URI:https://www.lpssonline.com/schools/southside/calendar/8966227
 /military-signing
DTSTART:20260504T130000Z
DTEND:20260504T133000Z
END:VEVENT
END:VCALENDAR
